BEGIN:VCALENDAR
VERSION:2.0
PRODID:-//BCMA - ECPv6.3.5//NONSGML v1.0//EN
CALSCALE:GREGORIAN
METHOD:PUBLISH
X-ORIGINAL-URL:https://www.wcacredit.org
X-WR-CALDESC:Events for BCMA
REFRESH-INTERVAL;VALUE=DURATION:PT1H
X-Robots-Tag:noindex
X-PUBLISHED-TTL:PT1H
BEGIN:VTIMEZONE
TZID:America/Chicago
BEGIN:DAYLIGHT
TZOFFSETFROM:-0600
TZOFFSETTO:-0500
TZNAME:CDT
DTSTART:20240310T080000
END:DAYLIGHT
BEGIN:STANDARD
TZOFFSETFROM:-0500
TZOFFSETTO:-0600
TZNAME:CST
DTSTART:20241103T070000
END:STANDARD
END:VTIMEZONE
BEGIN:VEVENT
DTSTART;TZID=America/Chicago:20240306T090000
DTEND;TZID=America/Chicago:20240306T100000
DTSTAMP:20260421T154354
CREATED:20231120T181409Z
LAST-MODIFIED:20231228T165324Z
UID:16614-1709715600-1709719200@www.wcacredit.org
SUMMARY:Webinar: Conflict Resolution
DESCRIPTION:Click HERE to register. \nIn this interactive Conflict Resolution program\, we will discuss or examine: \n\n8 ways to de-escalate any conflict with anyone\n20 ways to resolve problems quickly and efficiently with your customers\n20 ways to resolve conflicts with salespeople\n8 ways to de-escalate conflicts with your boss or senior management\n8 ways to resolve conflicts with your co-workers\n\nSpeaker: Michael Dennis \nProgram Flyer \n$65 for Members | $79 for Non-Members
URL:https://www.wcacredit.org/event/webinar-conflict-resolution/
LOCATION:WebEx
CATEGORIES:Educational Webinar
END:VEVENT
END:VCALENDAR